BEGIN:VCALENDAR
VERSION:2.0
PRODID:-//wp-events-plugin.com//7.2.3.1//EN
TZID:Europe/Paris
X-WR-TIMEZONE:Europe/Paris
BEGIN:VEVENT
UID:38@marchespublics-pme.be
DTSTART;TZID=Europe/Paris:20200205T090000
DTEND;TZID=Europe/Paris:20200205T113000
DTSTAMP:20200109T134201Z
URL:https://www.marchespublics-pme.be/evenements/initiation-aux-marches-pu
 blics-3/
SUMMARY:Initiation aux Marchés publics
DESCRIPTION:Les Marchés publics : du chiffre d'affaires à portée de main
 s !\nAtelier 1 : Initiation\n&nbsp\;\nVous êtes indépendant\, une TPE/PM
 E? Savez-vous que la commande publique représente plus de 50 milliards d
 ’euros par an!\nUn vecteur de croissance dont vous ne pouvez priver votr
 e entreprise! \nCompliqués\, les marchés publics ? \nLa SPI s’associe
  avec La Province de Hainaut - Hainaut Développement vous prouve le con
 traire et vous propose un cycle de trois ateliers pour démystifier les ma
 rchés publics et vous donner les clés pour vous lancer.\n\nCe premier at
 elier vous permettra de maîtriser les notions de base\, modes de passatio
 n\, points essentiels pour une relecture efficace des documents du marché
 . Il s’agit d’un kit de démarrage indispensable pour aborder les marc
 hés publics\, comprendre les réalités du secteur public et ses contrain
 tes\, et booster votre croissance.\n\nIl est possible d'assister aux 3 ate
 liers indépendamment mais la maîtrise de prérequis (via notamment par c
 et atelier) est conseillée pour l'atelier 2 "la sous-traitance" et l'atel
 ier 3 "les aspects financiers".\nOrateur\nBruno ZORZI - Juriste - Province
  de Hainaut - Hainaut Développement\nPublic cible\nTPE/PME\nHoraire\nAtel
 ier: 9h00 - 12h00\nModalités de participation\nLa coût de l'atelier est 
 de 87\,50 € HTVA /personne.\n\nInscription\n\n&nbsp\;\n\n\n\n\n\n&nbsp\;
 \n
ATTACH;FMTTYPE=image/jpeg:https://www.marchespublics-pme.be/wp-content/upl
 oads/2019/09/atelier4.jpg
CATEGORIES:Initiation
LOCATION:SPI - Liège\, Rue du Vertbois 11\, Liège\, Wallonie\, 4000\, Li
 ège\, Belgique
GEO:50.638246;5.572993
X-APPLE-STRUCTURED-LOCATION;VALUE=URI;X-ADDRESS=Rue du Vertbois 11\, Liège
 \, Wallonie\, 4000\, Liège\, Belgique;X-APPLE-RADIUS=100;X-TITLE=SPI - Li
 ège:geo:50.638246,5.572993
END:VEVENT
BEGIN:VTIMEZONE
TZID:Europe/Paris
X-LIC-LOCATION:Europe/Paris
BEGIN:STANDARD
DTSTART:20191027T020000
TZOFFSETFROM:+0200
TZOFFSETTO:+0100
TZNAME:CET
END:STANDARD
END:VTIMEZONE
END:VCALENDAR